BEGIN:VCALENDAR
VERSION:2.0
PRODID:icalendar-ruby
CALSCALE:GREGORIAN
BEGIN:VEVENT
DTSTAMP:20210121T215333Z
UID:dfe65ff3-efe1-4700-bf24-d03b96bfc8ed
DTSTART;VALUE=DATE:20191121
DESCRIPTION:Property ID# 465626\, Locatoin: Grenadier House\, 98 Moorhouse 
 Avenue (unless sold prior)\, Time: 12:00PM
SUMMARY:Auction for 
END:VEVENT
END:VCALENDAR
