BEGIN:VCALENDAR
VERSION:2.0
PRODID:icalendar-ruby
CALSCALE:GREGORIAN
BEGIN:VEVENT
DTSTAMP:20210121T215054Z
UID:fd2dc87f-ac29-4fd8-a1b9-890b9aedc023
DTSTART;VALUE=DATE:20191211
DESCRIPTION:Property ID# 466983\, Time: 4:00PM
SUMMARY:Auction for 
END:VEVENT
END:VCALENDAR
