BEGIN:VCALENDAR
VERSION:2.0
PRODID:icalendar-ruby
CALSCALE:GREGORIAN
BEGIN:VEVENT
DTSTAMP:20210121T215053Z
UID:ba745560-0bd3-4b6d-8193-28202a6c382f
DTSTART;VALUE=DATE:20200311
DESCRIPTION:Property ID# 472866\, Time: 4:00PM
SUMMARY:Auction for 
END:VEVENT
END:VCALENDAR
