BEGIN:VCALENDAR
VERSION:2.0
PRODID:icalendar-ruby
CALSCALE:GREGORIAN
BEGIN:VEVENT
DTSTAMP:20210121T215346Z
UID:f33b5172-ba94-43e6-811f-9065128a260d
DTSTART;VALUE=DATE:20200318
DESCRIPTION:Property ID# 473882\, Time: 4:00PM
SUMMARY:Auction for 
END:VEVENT
END:VCALENDAR
