BEGIN:VCALENDAR
VERSION:2.0
PRODID:icalendar-ruby
CALSCALE:GREGORIAN
BEGIN:VEVENT
DTSTAMP:20210121T215114Z
UID:3e018318-f0b9-4ab2-81c1-2699893a60e1
DTSTART;VALUE=DATE:20200324
DESCRIPTION:Property ID# 474634\, Locatoin: Harcourts Papanui\, Time: 3:00P
 M
SUMMARY:Auction for 
END:VEVENT
END:VCALENDAR
