BEGIN:VCALENDAR
VERSION:2.0
PRODID:icalendar-ruby
CALSCALE:GREGORIAN
BEGIN:VEVENT
DTSTAMP:20210121T215113Z
UID:a44076b0-6a6d-4962-afbd-5e4f5471a3ac
DTSTART;VALUE=DATE:20200331
DESCRIPTION:Property ID# 475453\, Locatoin: Good real estate Papanui \, Tim
 e: 2:00PM
SUMMARY:Auction for 
END:VEVENT
END:VCALENDAR
