BEGIN:VCALENDAR
VERSION:2.0
PRODID:icalendar-ruby
CALSCALE:GREGORIAN
BEGIN:VEVENT
DTSTAMP:20210121T215023Z
UID:7e995b89-9eda-4917-a26b-cf942fbae710
DTSTART;VALUE=DATE:20200401
DESCRIPTION:Property ID# 476040\, Time: 2:00PM
SUMMARY:Auction for 
END:VEVENT
END:VCALENDAR
