BEGIN:VCALENDAR
VERSION:2.0
PRODID:icalendar-ruby
CALSCALE:GREGORIAN
BEGIN:VEVENT
DTSTAMP:20210121T215345Z
UID:1e045766-a88c-437e-8021-d21e221010b5
DTSTART;VALUE=DATE:20200416
DESCRIPTION:Property ID# 476704\, Time: 4:00PM
SUMMARY:Auction for 
END:VEVENT
END:VCALENDAR
