BEGIN:VCALENDAR
VERSION:2.0
PRODID:icalendar-ruby
CALSCALE:GREGORIAN
BEGIN:VEVENT
DTSTAMP:20210121T215041Z
UID:42723a90-c206-4d0c-b950-58e61d4cc486
DTSTART;VALUE=DATE:20200611
DESCRIPTION:Property ID# 480704\, Time: 12:00PM
SUMMARY:Auction for 
END:VEVENT
END:VCALENDAR
