BEGIN:VCALENDAR
VERSION:2.0
PRODID:icalendar-ruby
CALSCALE:GREGORIAN
BEGIN:VEVENT
DTSTAMP:20210121T215022Z
UID:e75dacdf-4385-4e8f-95e2-669380f48425
DTSTART;VALUE=DATE:20200610
DESCRIPTION:Property ID# 481010\, Time: 2:00PM
SUMMARY:Auction for 
END:VEVENT
END:VCALENDAR
