BEGIN:VCALENDAR
VERSION:2.0
PRODID:icalendar-ruby
CALSCALE:GREGORIAN
BEGIN:VEVENT
DTSTAMP:20210121T215020Z
UID:39fda7e2-9132-46f0-8037-4da56fbe85ee
DTSTART;VALUE=DATE:20200708
DESCRIPTION:Property ID# 482905\, Time: 2:00PM
SUMMARY:Auction for 
END:VEVENT
END:VCALENDAR
