BEGIN:VCALENDAR
VERSION:2.0
PRODID:icalendar-ruby
CALSCALE:GREGORIAN
BEGIN:VEVENT
DTSTAMP:20210121T215111Z
UID:f445dab7-4b75-4aea-be4b-f09662b056eb
DTSTART;VALUE=DATE:20200729
DESCRIPTION:Property ID# 484465\, Time: 4:30PM
SUMMARY:Auction for 
END:VEVENT
END:VCALENDAR
