BEGIN:VCALENDAR
VERSION:2.0
PRODID:icalendar-ruby
CALSCALE:GREGORIAN
BEGIN:VEVENT
DTSTAMP:20210121T215331Z
UID:b143b3c0-afbd-45ff-98a4-e55f80c1bc6c
DTSTART;VALUE=DATE:20200828
DESCRIPTION:Property ID# 485805\, Time: 12:00PM
SUMMARY:Auction for 
END:VEVENT
END:VCALENDAR
