BEGIN:VCALENDAR
VERSION:2.0
PRODID:icalendar-ruby
CALSCALE:GREGORIAN
BEGIN:VEVENT
DTSTAMP:20210121T215039Z
UID:76586ebd-83f4-495d-8dde-6071826baa98
DTSTART;VALUE=DATE:20200924
DESCRIPTION:Property ID# 489094\, Time: 12:00PM
SUMMARY:Auction for 
END:VEVENT
END:VCALENDAR
