BEGIN:VCALENDAR
VERSION:2.0
PRODID:icalendar-ruby
CALSCALE:GREGORIAN
BEGIN:VEVENT
DTSTAMP:20210121T215038Z
UID:7d388422-ecd8-4fc1-8485-fde96da74b80
DTSTART;VALUE=DATE:20201001
DESCRIPTION:Property ID# 489540\, Time: 12:00PM
SUMMARY:Auction for 
END:VEVENT
END:VCALENDAR
