BEGIN:VCALENDAR
VERSION:2.0
PRODID:icalendar-ruby
CALSCALE:GREGORIAN
BEGIN:VEVENT
DTSTAMP:20210121T215342Z
UID:26edb5ec-e3b8-4a63-813d-a34ea548597a
DTSTART;VALUE=DATE:20201021
DESCRIPTION:Property ID# 491647\, Time: 4:00PM
SUMMARY:Auction for 108D Withells Road
END:VEVENT
END:VCALENDAR
