BEGIN:VCALENDAR
VERSION:2.0
PRODID:icalendar-ruby
CALSCALE:GREGORIAN
BEGIN:VEVENT
DTSTAMP:20210121T215019Z
UID:1adf91db-c9ea-4ead-b2f2-cf0b8e9fd29d
DTSTART;VALUE=DATE:20201028
DESCRIPTION:Property ID# 491708\, Time: 2:00PM
SUMMARY:Auction for 
END:VEVENT
END:VCALENDAR
