BEGIN:VCALENDAR
VERSION:2.0
PRODID:icalendar-ruby
CALSCALE:GREGORIAN
BEGIN:VEVENT
DTSTAMP:20210121T215017Z
UID:0ba21bb9-8aaa-4603-8e06-81ddc6eb517a
DTSTART;VALUE=DATE:20201104
DESCRIPTION:Property ID# 492442\, Time: 2:00PM
SUMMARY:Auction for 
END:VEVENT
END:VCALENDAR
