BEGIN:VCALENDAR
VERSION:2.0
PRODID:icalendar-ruby
CALSCALE:GREGORIAN
BEGIN:VEVENT
DTSTAMP:20210121T215110Z
UID:617d7e9b-f3ca-4c7b-a277-a9071719cc73
DTSTART;VALUE=DATE:20201118
DESCRIPTION:Property ID# 493837\, Locatoin: Gold auction rooms 471 Papanui 
 Road \, Time: 5:30PM
SUMMARY:Auction for 
END:VEVENT
END:VCALENDAR
