BEGIN:VCALENDAR
VERSION:2.0
PRODID:icalendar-ruby
CALSCALE:GREGORIAN
BEGIN:VEVENT
DTSTAMP:20210121T215014Z
UID:faa37e8d-c0b9-4ad5-817f-a3db99691d42
DTSTART;VALUE=DATE:20201125
DESCRIPTION:Property ID# 494103\, Time: 2:00PM
SUMMARY:Auction for 
END:VEVENT
END:VCALENDAR
