BEGIN:VCALENDAR
VERSION:2.0
PRODID:icalendar-ruby
CALSCALE:GREGORIAN
BEGIN:VEVENT
DTSTAMP:20210121T215049Z
UID:80acad80-c0a7-41d9-a808-41bf0c4e52d0
DTSTART;VALUE=DATE:20201125
DESCRIPTION:Property ID# 494466\, Locatoin: Tait Technology Centre\, 245 Wo
 olridge Road\, Christchurch\, Time: 12:00PM
SUMMARY:Auction for 207B Hoon Hay Road
END:VEVENT
END:VCALENDAR
