BEGIN:VCALENDAR
VERSION:2.0
PRODID:icalendar-ruby
CALSCALE:GREGORIAN
BEGIN:VEVENT
DTSTAMP:20210121T215036Z
UID:74f1366e-4780-475a-b501-29a4d3bc822c
DTSTART;VALUE=DATE:20201126
DESCRIPTION:Property ID# 494622\, Time: 12:00PM
SUMMARY:Auction for 
END:VEVENT
END:VCALENDAR
