BEGIN:VCALENDAR
VERSION:2.0
PRODID:icalendar-ruby
CALSCALE:GREGORIAN
BEGIN:VEVENT
DTSTAMP:20210121T215104Z
UID:57c48cf9-4727-419d-8548-58e292103f67
DTSTART;VALUE=DATE:20201202
DESCRIPTION:Property ID# 495150\, Locatoin: Holmwood Auction Room\, 397 Ila
 m Rd\, Time: 10:00AM
SUMMARY:Auction for 
END:VEVENT
END:VCALENDAR
