BEGIN:VCALENDAR
VERSION:2.0
PRODID:icalendar-ruby
CALSCALE:GREGORIAN
BEGIN:VEVENT
DTSTAMP:20210121T215045Z
UID:4e78c2dc-8d9e-4744-8751-77a445d5676c
DTSTART;VALUE=DATE:20201202
DESCRIPTION:Property ID# 495345\, Locatoin: Tait Technology Centre\, 245 Wo
 olridge Road\, Christchurch\, Time: 12:00PM
SUMMARY:Auction for 2a Coldstream Court
END:VEVENT
END:VCALENDAR
