BEGIN:VCALENDAR
VERSION:2.0
PRODID:icalendar-ruby
CALSCALE:GREGORIAN
BEGIN:VEVENT
DTSTAMP:20210121T215107Z
UID:1dbdee88-1751-4b7c-aaea-e0355347f6c7
DTSTART;VALUE=DATE:20201203
DESCRIPTION:Property ID# 495448\, Locatoin: 98 Moorhouse Avenue\, Christchu
 rch\, Time: 12:00PM
SUMMARY:Auction for 
END:VEVENT
END:VCALENDAR
