BEGIN:VCALENDAR
VERSION:2.0
PRODID:icalendar-ruby
CALSCALE:GREGORIAN
BEGIN:VEVENT
DTSTAMP:20210121T215102Z
UID:b08ea0de-ad30-4eda-a950-ea635845271a
DTSTART;VALUE=DATE:20201209
DESCRIPTION:Property ID# 495620\, Locatoin: Holmwood Auction Room\, 399 Ila
 m Rd\, Time: 10:00AM
SUMMARY:Auction for 
END:VEVENT
END:VCALENDAR
