BEGIN:VCALENDAR
VERSION:2.0
PRODID:icalendar-ruby
CALSCALE:GREGORIAN
BEGIN:VEVENT
DTSTAMP:20210119T004245Z
UID:9b12460b-1c58-41d2-af65-7e6acb330c8e
DTSTART;VALUE=DATE:20201130
DESCRIPTION:Property ID# 496010\, Locatoin: Holmwood Auction Rooms\, Ground
  Floor\, 397 - 399 Ilam Road\, Time: 4:30PM
SUMMARY:Auction for 
END:VEVENT
END:VCALENDAR
