BEGIN:VCALENDAR
VERSION:2.0
PRODID:icalendar-ruby
CALSCALE:GREGORIAN
BEGIN:VEVENT
DTSTAMP:20210121T215031Z
UID:0bd5bf1b-1fdf-40f1-ae4a-958044c53c1d
DTSTART;VALUE=DATE:20201210
DESCRIPTION:Property ID# 496345\, Time: 12:00PM
SUMMARY:Auction for 
END:VEVENT
END:VCALENDAR
