BEGIN:VCALENDAR
VERSION:2.0
PRODID:icalendar-ruby
CALSCALE:GREGORIAN
BEGIN:VEVENT
DTSTAMP:20210121T215044Z
UID:4e46d977-3332-4f2b-9831-78bc934f0b27
DTSTART;VALUE=DATE:20210127
DESCRIPTION:Property ID# 498632\, Locatoin: Tait Technology Centre\, 245 Wo
 olridge Road\, Christchurch\, Time: 12:00PM
SUMMARY:Auction for 99 Malcolm Avenue
END:VEVENT
END:VCALENDAR
