BEGIN:VCALENDAR
VERSION:2.0
PRODID:icalendar-ruby
CALSCALE:GREGORIAN
BEGIN:VEVENT
DTSTAMP:20210121T215340Z
UID:47e74bbb-a7da-4576-9024-bd5268318da8
DTSTART;VALUE=DATE:20210127
DESCRIPTION:Property ID# 499078\, Time: 4:00PM
SUMMARY:Auction for 29/56 Gladson Avenue
END:VEVENT
END:VCALENDAR
