BEGIN:VCALENDAR
VERSION:2.0
PRODID:icalendar-ruby
CALSCALE:GREGORIAN
BEGIN:VEVENT
DTSTAMP:20210121T215105Z
UID:52415df5-03e9-410a-97cb-4912e4396e74
DTSTART;VALUE=DATE:20210204
DESCRIPTION:Property ID# 499335\, Locatoin: 98 Moorhouse Avennue\, Christch
 urch\, Time: 12:00PM
SUMMARY:Auction for 5 Urella Place
END:VEVENT
END:VCALENDAR
