BEGIN:VCALENDAR
VERSION:2.0
PRODID:icalendar-ruby
CALSCALE:GREGORIAN
BEGIN:VEVENT
DTSTAMP:20210121T214116Z
UID:d43e5e6f-bfaa-47bd-bcda-926947658989
DTSTART;VALUE=DATE:20210216
DESCRIPTION:Property ID# 499431\, Locatoin: Harcourts Papanui\, Time: 3:00P
 M
SUMMARY:Auction for 2 Woodglen Drive
END:VEVENT
END:VCALENDAR
