BEGIN:VCALENDAR
VERSION:2.0
PRODID:icalendar-ruby
CALSCALE:GREGORIAN
BEGIN:VEVENT
DTSTAMP:20210121T214030Z
UID:e547ad93-a705-4b55-8d81-2baead0803e7
DTSTART;VALUE=DATE:20210210
DESCRIPTION:Property ID# 499569\, Time: 2:00PM
SUMMARY:Auction for 1 Cotswold Avenue
END:VEVENT
END:VCALENDAR
