BEGIN:VCALENDAR
VERSION:2.0
PRODID:icalendar-ruby
CALSCALE:GREGORIAN
BEGIN:VEVENT
DTSTAMP:20210121T214054Z
UID:022b68a3-5289-478e-9318-6703e4ec963d
DTSTART;VALUE=DATE:20210210
DESCRIPTION:Property ID# 499586\, Time: 12:00PM
SUMMARY:Auction for 12/444 Hagley Avenue
END:VEVENT
END:VCALENDAR
