BEGIN:VCALENDAR
VERSION:2.0
PRODID:icalendar-ruby
CALSCALE:GREGORIAN
BEGIN:VEVENT
DTSTAMP:20210121T214129Z
UID:20b39732-e03c-40fc-8813-3e29c8002ecb
DTSTART;VALUE=DATE:20210211
DESCRIPTION:Property ID# 499871\, Time: 12:00PM
SUMMARY:Auction for 27 Lavandula Crescent
END:VEVENT
END:VCALENDAR
