BEGIN:VCALENDAR
VERSION:2.0
PRODID:icalendar-ruby
CALSCALE:GREGORIAN
BEGIN:VEVENT
DTSTAMP:20210121T214106Z
UID:ce05d566-9b63-441f-b771-f43672688413
DTSTART;VALUE=DATE:20210210
DESCRIPTION:Property ID# 499950\, Time: 10:00AM
SUMMARY:Auction for 7 Fleur Lane
END:VEVENT
END:VCALENDAR
