BEGIN:VCALENDAR
VERSION:2.0
PRODID:icalendar-ruby
CALSCALE:GREGORIAN
BEGIN:VEVENT
DTSTAMP:20210121T214039Z
UID:7b59804d-0fb4-43bf-8a68-d2da661ac63a
DTSTART;VALUE=DATE:20210211
DESCRIPTION:Property ID# 500043\, Time: 10:00AM
SUMMARY:Auction for 7 Elmtree Close
END:VEVENT
END:VCALENDAR
