BEGIN:VCALENDAR
VERSION:2.0
PRODID:icalendar-ruby
CALSCALE:GREGORIAN
BEGIN:VEVENT
DTSTAMP:20210121T214049Z
UID:af06b75d-7224-4bd0-a24d-a5af5e8018ed
DTSTART;VALUE=DATE:20210211
DESCRIPTION:Property ID# 500137\, Time: 12:00PM
SUMMARY:Auction for 76 Selwyn Street
END:VEVENT
END:VCALENDAR
