BEGIN:VCALENDAR
VERSION:2.0
PRODID:icalendar-ruby
CALSCALE:GREGORIAN
BEGIN:VEVENT
DTSTAMP:20210121T214126Z
UID:d9b5fc63-8954-4671-9d05-e7fccf7bda7a
DTSTART;TZID=Pacific/Auckland:20210123T110000
DTEND;TZID=Pacific/Auckland:20210123T114500
DESCRIPTION:Property ID# 499871
SUMMARY:Openhome for 27 Lavandula Crescent
END:VEVENT
END:VCALENDAR
