BEGIN:VCALENDAR
VERSION:2.0
PRODID:icalendar-ruby
CALSCALE:GREGORIAN
BEGIN:VEVENT
DTSTAMP:20210121T214115Z
UID:7bdbbbaf-adaa-47b9-bef0-4ad2e2bb9d3b
DTSTART;TZID=Pacific/Auckland:20210124T133000
DTEND;TZID=Pacific/Auckland:20210124T143000
DESCRIPTION:Property ID# 499431
SUMMARY:Openhome for 2 Woodglen Drive
END:VEVENT
END:VCALENDAR
