BEGIN:VCALENDAR
VERSION:2.0
PRODID:icalendar-ruby
CALSCALE:GREGORIAN
BEGIN:VEVENT
DTSTAMP:20210121T214111Z
UID:273fde7d-3be2-49b1-8d25-953de6f52870
DTSTART;TZID=Pacific/Auckland:20210123T140000
DTEND;TZID=Pacific/Auckland:20210123T143000
DESCRIPTION:Property ID# 499953
SUMMARY:Openhome for 61B Frankleigh Street
END:VEVENT
END:VCALENDAR
