BEGIN:VCALENDAR
VERSION:2.0
PRODID:icalendar-ruby
CALSCALE:GREGORIAN
BEGIN:VEVENT
DTSTAMP:20210121T214105Z
UID:8ba77c4f-86f5-49ed-b2b2-1b879b6ed3e8
DTSTART;TZID=Pacific/Auckland:20210124T150000
DTEND;TZID=Pacific/Auckland:20210124T153000
DESCRIPTION:Property ID# 499950
SUMMARY:Openhome for 7 Fleur Lane
END:VEVENT
END:VCALENDAR
