BEGIN:VCALENDAR
VERSION:2.0
PRODID:icalendar-ruby
CALSCALE:GREGORIAN
BEGIN:VEVENT
DTSTAMP:20210121T214046Z
UID:002d2a33-45a0-4173-82a3-b7d0c09ddd12
DTSTART;TZID=Pacific/Auckland:20210122T144500
DTEND;TZID=Pacific/Auckland:20210122T153000
DESCRIPTION:Property ID# 500137
SUMMARY:Openhome for 76 Selwyn Street
END:VEVENT
END:VCALENDAR
