BEGIN:VCALENDAR
VERSION:2.0
PRODID:icalendar-ruby
CALSCALE:GREGORIAN
BEGIN:VEVENT
DTSTAMP:20210121T214037Z
UID:ae0e5609-69e1-4019-a8bc-f6c240dfd84d
DTSTART;TZID=Pacific/Auckland:20210123T113000
DTEND;TZID=Pacific/Auckland:20210123T121500
DESCRIPTION:Property ID# 500043
SUMMARY:Openhome for 7 Elmtree Close
END:VEVENT
END:VCALENDAR
