BEGIN:VCALENDAR
VERSION:2.0
PRODID:icalendar-ruby
CALSCALE:GREGORIAN
BEGIN:VEVENT
DTSTAMP:20210121T214028Z
UID:e56448c7-3ffb-4af9-8f04-0d2d82cf56ae
DTSTART;TZID=Pacific/Auckland:20210123T130000
DTEND;TZID=Pacific/Auckland:20210123T134500
DESCRIPTION:Property ID# 499569
SUMMARY:Openhome for 1 Cotswold Avenue
END:VEVENT
END:VCALENDAR
