BEGIN:VCALENDAR
VERSION:2.0
PRODID:icalendar-ruby
CALSCALE:GREGORIAN
BEGIN:VEVENT
DTSTAMP:20260425T113100Z
UID:071e1a84-2ee3-4672-b269-a34264798ac4
DTSTART;VALUE=DATE:20200716
DESCRIPTION:Property ID# 483887\, Time: 10:00AM
SUMMARY:Auction for 
END:VEVENT
END:VCALENDAR
