BEGIN:VCALENDAR
VERSION:2.0
PRODID:icalendar-ruby
CALSCALE:GREGORIAN
BEGIN:VEVENT
DTSTAMP:20260420T072933Z
UID:9b8e56e0-484a-4f37-8ed5-5416ab2e4f31
DTSTART;VALUE=DATE:20210318
DESCRIPTION:Property ID# 502763\, Time: 12:00PM
SUMMARY:Auction for 
END:VEVENT
END:VCALENDAR
