BEGIN:VCALENDAR
VERSION:2.0
PRODID:icalendar-ruby
CALSCALE:GREGORIAN
BEGIN:VEVENT
DTSTAMP:20260425T114342Z
UID:02aa99ab-04ce-42ad-b258-e19fe52e4529
DTSTART;VALUE=DATE:20210512
DESCRIPTION:Property ID# 507984\, Time: 2:00PM
SUMMARY:Auction for 
END:VEVENT
END:VCALENDAR
