BEGIN:VCALENDAR
VERSION:2.0
PRODID:icalendar-ruby
CALSCALE:GREGORIAN
BEGIN:VEVENT
DTSTAMP:20260424T235450Z
UID:76a28956-7ed7-4173-8dcb-87b3d00b389b
DTSTART;VALUE=DATE:20210519
DESCRIPTION:Property ID# 508707\, Time: 12:00PM
SUMMARY:Auction for 
END:VEVENT
END:VCALENDAR
