BEGIN:VCALENDAR
VERSION:2.0
PRODID:icalendar-ruby
CALSCALE:GREGORIAN
BEGIN:VEVENT
DTSTAMP:20260421T001822Z
UID:73287df7-f1ef-41e2-af3e-4e1df9e5020e
DTSTART;VALUE=DATE:20210520
DESCRIPTION:Property ID# 508813\, Locatoin: 98 Moorhouse Avenue\, Christchu
 rch\, Time: 12:00PM
SUMMARY:Auction for 
END:VEVENT
END:VCALENDAR
